BEGIN:VCALENDAR
VERSION:2.0
PRODID:-//Montclair Music - ECPv6.15.10//NONSGML v1.0//EN
CALSCALE:GREGORIAN
METHOD:PUBLISH
X-ORIGINAL-URL:https://montclairmusicclub.org
X-WR-CALDESC:Events for Montclair Music
REFRESH-INTERVAL;VALUE=DURATION:PT1H
X-Robots-Tag:noindex
X-PUBLISHED-TTL:PT1H
BEGIN:VTIMEZONE
TZID:America/New_York
BEGIN:DAYLIGHT
TZOFFSETFROM:-0500
TZOFFSETTO:-0400
TZNAME:EDT
DTSTART:20200308T070000
END:DAYLIGHT
BEGIN:STANDARD
TZOFFSETFROM:-0400
TZOFFSETTO:-0500
TZNAME:EST
DTSTART:20201101T060000
END:STANDARD
BEGIN:DAYLIGHT
TZOFFSETFROM:-0500
TZOFFSETTO:-0400
TZNAME:EDT
DTSTART:20210314T070000
END:DAYLIGHT
BEGIN:STANDARD
TZOFFSETFROM:-0400
TZOFFSETTO:-0500
TZNAME:EST
DTSTART:20211107T060000
END:STANDARD
BEGIN:DAYLIGHT
TZOFFSETFROM:-0500
TZOFFSETTO:-0400
TZNAME:EDT
DTSTART:20220313T070000
END:DAYLIGHT
BEGIN:STANDARD
TZOFFSETFROM:-0400
TZOFFSETTO:-0500
TZNAME:EST
DTSTART:20221106T060000
END:STANDARD
BEGIN:DAYLIGHT
TZOFFSETFROM:-0500
TZOFFSETTO:-0400
TZNAME:EDT
DTSTART:20230312T070000
END:DAYLIGHT
BEGIN:STANDARD
TZOFFSETFROM:-0400
TZOFFSETTO:-0500
TZNAME:EST
DTSTART:20231105T060000
END:STANDARD
BEGIN:DAYLIGHT
TZOFFSETFROM:-0500
TZOFFSETTO:-0400
TZNAME:EDT
DTSTART:20240310T070000
END:DAYLIGHT
BEGIN:STANDARD
TZOFFSETFROM:-0400
TZOFFSETTO:-0500
TZNAME:EST
DTSTART:20241103T060000
END:STANDARD
END:VTIMEZONE
BEGIN:VTIMEZONE
TZID:UTC
BEGIN:STANDARD
TZOFFSETFROM:+0000
TZOFFSETTO:+0000
TZNAME:UTC
DTSTART:20180101T000000
END:STANDARD
END:VTIMEZONE
BEGIN:VEVENT
DTSTART;TZID=America/New_York:20230501T193000
DTEND;TZID=America/New_York:20230501T210000
DTSTAMP:20260423T142746
CREATED:20230416T212639Z
LAST-MODIFIED:20230416T212639Z
UID:627-1682969400-1682974800@montclairmusicclub.org
SUMMARY:May 1st Young Artists Concert Program
DESCRIPTION:The next program of the 2022-23 season will be held on Monday evening\, May 1st\, 7:30pm\, at Presbyterian Church of Upper Montclair\, 53 Norwood Ave. Performing are: Esther Li\, piano\, Wesley Liu\, piano\, Violetta Maria Norrie\, harp with Jay Julio\, viola. Reception immediately following the program. This is the one program of the year that is open to the public. It is free\, but donations are appreciated to fund MMC expenses and support this program of outstanding young musicians. \nFor more details go to our Facebook page. \nClick here to view event flyer
URL:https://montclairmusicclub.org/event/may-1st-young-artists-concert-program/
END:VEVENT
BEGIN:VEVENT
DTSTART;TZID=America/New_York:20230403T193000
DTEND;TZID=America/New_York:20230403T210000
DTSTAMP:20260423T142746
CREATED:20230316T190643Z
LAST-MODIFIED:20230316T190830Z
UID:618-1680550200-1680555600@montclairmusicclub.org
SUMMARY:April 2023 Program
DESCRIPTION:The next program of the 2022-23 season will be held on Monday evening\, April 3rd\, 7:30pm\, at Presbyterian Church of Upper Montclair\, 53 Norwood Ave. Performing are: Olivia Chalkin\, flute with John Gibb\, piano; Morgan Lomax\, harp; Rebecca Harris-Lee\, violin with Thomas Parente\, piano and composer; and Karen Lundry\, soprano with William Barto Jones\, piano. Reception immediately following the program. \nFor more details go to our Facebook page. \nClick here to view event flyer
URL:https://montclairmusicclub.org/event/april-2023-program/
END:VEVENT
BEGIN:VEVENT
DTSTART;TZID=America/New_York:20230306T113000
DTEND;TZID=America/New_York:20230306T130000
DTSTAMP:20260423T142746
CREATED:20230222T170757Z
LAST-MODIFIED:20230222T170757Z
UID:612-1678102200-1678107600@montclairmusicclub.org
SUMMARY:March 2023 Program
DESCRIPTION:The next program of the 2022-23 season will be held on Monday morning\, March 6th\, 11:30 am\, at Presbyterian Church of Upper Montclair\, 53 Norwood Ave. This is the only morning program of the season. Performing are: Barbara Landi Hause\, piano; Vocalist Carol Erickson with Bob McHugh\, piano and Ron Naspo bass; Mia Riker-Norrie\, soprano with Rebecca Eng\, piano. Reception immediately following the program. \nFor more details go to our Facebook page. \nClick here to view event flyer
URL:https://montclairmusicclub.org/event/march-2023-program/
LOCATION:Presbyterian Church of Upper Montclair\, 53 Norwood Ave\, Montclair\, NJ\, United States
END:VEVENT
BEGIN:VEVENT
DTSTART;TZID=America/New_York:20221205T193000
DTEND;TZID=America/New_York:20221205T210000
DTSTAMP:20260423T142746
CREATED:20221123T213117Z
LAST-MODIFIED:20221123T214312Z
UID:608-1670268600-1670274000@montclairmusicclub.org
SUMMARY:December 2022 Program
DESCRIPTION:The third Concert of the 2022-23 season will be held on Monday evening\, December 5th\, at 7:30 pm\, at Presbyterian Church of Upper Montclair\, 53 Norwood Ave. Performing are: Michael Alampi\, flute\, Ryan Bridge\, piano\, Tamar Sagiv\, cello\, and Marian Schirrmeister\, piano. Reception immediately following the program. \nFor more details go to our facebook page. \nClick here to view event flyer
URL:https://montclairmusicclub.org/event/december-2022-program/
LOCATION:Presbyterian Church of Upper Montclair\, 53 Norwood Ave\, Montclair\, NJ\, United States
END:VEVENT
BEGIN:VEVENT
DTSTART;TZID=America/New_York:20221107T193000
DTEND;TZID=America/New_York:20221107T220000
DTSTAMP:20260423T142746
CREATED:20221012T135601Z
LAST-MODIFIED:20221012T140733Z
UID:594-1667849400-1667858400@montclairmusicclub.org
SUMMARY:November 2022 Program
DESCRIPTION:The Second Concert of the 2022-23 season will be held on Monday evening\, November 7th\, at 7:30 pm\, at Presbyterian Church of Upper Montclair\, 53 Norwood Ave. Performing are: Jason Adamo\, bass-baritone\, with Ron Levy\, piano; Daryl Hester\, lute and guitar; Julianne Froehlich\, soprano with Po-Wei Ger\, piano; and Ethan Dunne\, piano. Reception immediately following the program. \nFor more details go to our facebook page. \nClick here to view event flyer
URL:https://montclairmusicclub.org/event/november-2022-program/
LOCATION:Presbyterian Church of Upper Montclair\, 53 Norwood Ave\, Montclair\, NJ\, United States
END:VEVENT
BEGIN:VEVENT
DTSTART;TZID=America/New_York:20221003T193000
DTEND;TZID=America/New_York:20221003T220000
DTSTAMP:20260423T142746
CREATED:20220914T131352Z
LAST-MODIFIED:20220919T142619Z
UID:579-1664825400-1664834400@montclairmusicclub.org
SUMMARY:October 2022 Program
DESCRIPTION:The Opening Concert of the 2022-23 season will be held on Monday evening\, October 3rd\, at 7:30 pm\, at Presbyterian Church of Upper Montclair\, 53 Norwood Ave. Performing are: Paul Erickson\, horn\, with Anne Marie Juliano\, piano; Yoonjung Hwang\, violin\, with Ryan Bridge\, piano; Lauren Staub\, soprano\, with Ryan Bridge\, piano; Hannah Cho\, soprano\, with Dylan James\, clarinet\, and Ron Levy\, piano; and Dylan James\, clarinet\, with Ron Levy\, piano. Reception immediately following the program. \nFor more details go to our facebook page. \nClick here to view event flyer
URL:https://montclairmusicclub.org/event/october-2022-program/
END:VEVENT
BEGIN:VEVENT
DTSTART;TZID=America/New_York:20220502T193000
DTEND;TZID=America/New_York:20220502T213000
DTSTAMP:20260423T142746
CREATED:20220331T145524Z
LAST-MODIFIED:20220629T160648Z
UID:459-1651519800-1651527000@montclairmusicclub.org
SUMMARY:May 2022 Young Artists Concert
DESCRIPTION:The final program of the season\, The Young Artists Concert\, on Monday evening\, May 2nd\, 7:30 pm\, is open to the public and part of the May in Montclair schedule. This concert will feature pianist Yantong Zhou playing Chopin Preludes Op. 28 No. 16-24; Mozart’s Second Horn Concerto with horn player Thomas “TJ” Viola and pianist Jessica Whiddon; pianist Michael Zheng playing works by Scriabin\, Debussy and Chopin; the Ravel Sonata for Violin and Cello with Yoonjung Hwang\, violin\, and Camille Dietrich\, cello; and the Brahms First Piano Sonata with pianist Matthew Culbertson. Please join us for this exciting program and support these accomplished young musicians. Donations suggested. \nMay 2@ 7:30 – 9:30 pm\nPresbyterian Church of Upper Montclair\n53 Norwood Ave\nMontclair\, NJ\nUnited States\nClick here to view event flyer.
URL:https://montclairmusicclub.org/event/may-2022-young-artists-concert/
LOCATION:Presbyterian Church of Upper Montclair\, 53 Norwood Ave\, Montclair\, NJ\, United States
END:VEVENT
BEGIN:VEVENT
DTSTART;TZID=America/New_York:20220404T193000
DTEND;TZID=America/New_York:20220404T220000
DTSTAMP:20260423T142746
CREATED:20220319T204005Z
LAST-MODIFIED:20220814T195841Z
UID:449-1649100600-1649109600@montclairmusicclub.org
SUMMARY:April 2022 Program
DESCRIPTION:The April program of the 2021-2022 season will be held on Monday evening\, April 4th\, at 7:30 pm\, at Presbyterian Church of Upper Montclair\, 53 Norwood Ave. Performing is pianist Josh Levitin\, vocalist Carol Erickson with pianist Bob McHugh and bassist Ron Naspo\, and cellist Tamar Sagiv with pianist Sangwoo Park.\nFor more details go to Facebook.com/montclairmusicclub/. \nClick here to view event flyer \n  \nhttps://montclairmusicclub.org/wp-content/uploads/2022/03/20220408-The-Entertainer.mp4
URL:https://montclairmusicclub.org/event/april-2022-program/
LOCATION:Presbyterian Church of Upper Montclair\, 53 Norwood Ave\, Montclair\, NJ\, United States
END:VEVENT
BEGIN:VEVENT
DTSTART;TZID=America/New_York:20220307T113000
DTEND;TZID=America/New_York:20220307T133000
DTSTAMP:20260423T142746
CREATED:20220219T001901Z
LAST-MODIFIED:20220814T195735Z
UID:439-1646652600-1646659800@montclairmusicclub.org
SUMMARY:March 2022 Program
DESCRIPTION:The March program of the 2021-2022 season will be held on Monday morning\, March 7th\, at 11:30 am\, at Presbyterian Church of Upper Montclair\, 53 Norwood Ave. Please note this is a morning program and will feature pianist Barbara Landi-Hause\, soprano Karen Lundry with pianist William Barto Jones\, and pianist Ryan Bridge. For more details go to Facebook.com/montclairmusicclub/. \nClick here to view event flyer \nhttps://montclairmusicclub.org/wp-content/uploads/2022/02/20220308-Ryan.mp4\nhttps://montclairmusicclub.org/wp-content/uploads/2022/02/20220308-Karen-Lundry-Voices-of-Spring-Strauss-Jr..mp4\nhttps://montclairmusicclub.org/wp-content/uploads/2022/02/20220308-Barbara-Hause-Haydn.mp4
URL:https://montclairmusicclub.org/event/march-2022-program/
LOCATION:Presbyterian Church of Upper Montclair\, 53 Norwood Ave\, Montclair\, NJ\, United States
END:VEVENT
BEGIN:VEVENT
DTSTART;TZID=America/New_York:20211206T193000
DTEND;TZID=America/New_York:20211206T213000
DTSTAMP:20260423T142746
CREATED:20211123T191939Z
LAST-MODIFIED:20220219T001333Z
UID:414-1638819000-1638826200@montclairmusicclub.org
SUMMARY:December Program - 2021
DESCRIPTION:The December program\, the second program of the 2021-2022 season\, will be held on Monday evening\, December 6th\, at 7:30 pm\, at Presbyterian Church of Upper Montclair\, 53 Norwood Ave. It will feature well-known French opera arias by Charles Gounod and Jules Massenet sung by lyric soprano Erin Persick with collaborator Ron Levy; Schumann Fantasy Pieces for viola and piano performed by violist Nicolas Mirabile and collaborator Rebecca Eng; and Goldberg Variations by J. S. Bach\, Troubled Water by Margaret Bonds and La Valse by Maurice Ravel performed by pianist Beatrice Long. Please join us for this exciting program. For more details go to Facebook.com/montclairmusicclub/. \nClick here to view event flyer \nClick here for video excerpts
URL:https://montclairmusicclub.org/event/december-program-2021/
LOCATION:PCUM\, 53 Norwood Ave\, Montclair\, NJ\, United States
END:VEVENT
BEGIN:VEVENT
DTSTART;TZID=America/New_York:20211101T193000
DTEND;TZID=America/New_York:20211101T213000
DTSTAMP:20260423T142746
CREATED:20211101T180735Z
LAST-MODIFIED:20211123T190958Z
UID:405-1635795000-1635802200@montclairmusicclub.org
SUMMARY:November Program - 2021
DESCRIPTION:The November program\, the first program of the 2021-2022 season\, was held on Monday evening\, November 1st\, at 7:30 pm\, at Presbyterian Church of Upper Montclair\, 53 Norwood Ave. It featured contemporary works by Bernstein\, Shaw\, Adams and Monk by pianist Carolyn Enger; lute and guitar pieces by DeMilan\, Sor and J.S. Bach by lutist and guitarist Daryl Hester\, and Quintet for Winds by Maslanka and Ibert’s Trois pieces brevis by the Cali Wind Quintet. For excerpts of the program go to Facebook.com/montclairmusicclub/. \nClick here to view event flyer
URL:https://montclairmusicclub.org/event/november-program-2021/
LOCATION:Presbyterian Church of Upper Montclair\, 53 Norwood Ave\, Montclair\, NJ\, United States
END:VEVENT
BEGIN:VEVENT
DTSTART;TZID=UTC:20200413T193000
DTEND;TZID=UTC:20200413T193000
DTSTAMP:20260423T142746
CREATED:20200311T221556Z
LAST-MODIFIED:20200311T221556Z
UID:328-1586806200-1586806200@montclairmusicclub.org
SUMMARY:April Program
DESCRIPTION:  \n \nThe April program will be held on Monday evening\, April 13th\, at 7:30 pm\, at Presbyterian Church of Upper Montclair\, 53 Norwood Ave.\, and will feature: pianist Alejandro Guillen performing Solemn Portrait of Aldemaro Romero by Venezuelan composer Juan Carlos Nunez and Impromptu in C minor by Schubert; Magdalena Orlowska\, oboe\, Lina Nilsson\, bassoon\, and Ellen Ivansson\, clarinet\, playing solo and trio pieces by Erland von Koch\, Benjamin Britten\, Bach\, and Jean Francaix; and pianist Beatrice Long playing Allegro de Concierto by Granados\, Pagodas from Estamps by Debussy and Rachmaninoff’s Moment Musicaux. \nPlease join us for this exciting program. Donations to support MMC programs and scholarships are suggested. In addition to the website you can follow MMC at facebook.com/montclairmusicclub/ for more information about this program and updates.\nclick here to view event flyer
URL:https://montclairmusicclub.org/event/april-program/
LOCATION:Presbyterian Church of Upper Montclair\, 53 Norwood Ave\, Montclair\, NJ\, United States
END:VEVENT
BEGIN:VEVENT
DTSTART;TZID=UTC:20200309T113000
DTEND;TZID=UTC:20200309T113000
DTSTAMP:20260423T142746
CREATED:20200210T140954Z
LAST-MODIFIED:20200213T211053Z
UID:283-1583753400-1583753400@montclairmusicclub.org
SUMMARY:The March 2020 Program
DESCRIPTION:The March program will be held on Monday morning\, March 9th\, at 11:30 am\, at Presbyterian Church of Upper Montclair\, 53 Norwood Ave.\, and will feature pianist Dan Boscardin performing a Bach Prelude and Fugue\, Chopin Waltz and Rachmaninoff Prelude\, organist Paul Erickson playing a Buxtehude Chorale and a Mendelssohn Sonata\, and pianist Itay Goren performing a Handel Chaconne as well as Montclair composer Randall Svane’s Piano Sonata. \nPlease join us for this all keyboard program of varied and favorite repertoire. \nReception immediately following the program. \nDonations to support MMC programs and scholarships are suggested. \nIn addition to the website\, you can follow MMC at facebook.com/montclairmusicclub/ for more information about this program.
URL:https://montclairmusicclub.org/event/march-2020-program/
LOCATION:Presbyterian Church of Upper Montclair\, 53 Norwood Ave\, Montclair\, NJ\, United States
END:VEVENT
BEGIN:VEVENT
DTSTART;TZID=UTC:20200210T113000
DTEND;TZID=UTC:20200210T113000
DTSTAMP:20260423T142746
CREATED:20200113T160423Z
LAST-MODIFIED:20200213T202819Z
UID:252-1581334200-1581334200@montclairmusicclub.org
SUMMARY:The February 2020 Program
DESCRIPTION:The February program will be held on Monday morning\, February 10th\, at 11:30 am\, at Presbyterian Church of Upper Montclair\, 53 Norwood Ave.\, and will feature popular arias sung by soprano Karen Lundry; a Mozart Sonata performed by pianist Barbara Landi Hause; and favorite Gershwin four-hand piano duets performed by pianists Rebecca Eng and Florence Liu. \nClick here to view the event flyer \nPlease join us for this varied program of favorite repertoire. Donations to support MMC programs and scholarships are suggested. In addition to the website\, you can follow MMC at facebook.com/montclairmusicclub/ for more information about this program. \nFebruary 10th Event Performers \n 
URL:https://montclairmusicclub.org/event/february-2020-program/
END:VEVENT
BEGIN:VEVENT
DTSTART;TZID=UTC:20191209T193000
DTEND;TZID=UTC:20191209T193000
DTSTAMP:20260423T142746
CREATED:20191203T193247Z
LAST-MODIFIED:20200205T141252Z
UID:172-1575919800-1575919800@montclairmusicclub.org
SUMMARY:December Program
DESCRIPTION:Click here to view the event flyer  \nClick here for video excerpt  \nSchubert Sonata in B flat major by pianist Matthew Culbertson\nBach G minor Sonata and the Franck Sonata\nby violinist Yoonjung Hwang with pianist Ryan Bridge\nBach\, Cage\, Satie\, Glass and Debussy works\nby pianist Carolyn Enger \nDonations will go toward supporting the MMC scholarship and program expenses
URL:https://montclairmusicclub.org/event/december-program/
LOCATION:PRESBYTERIAN CHURCH OF UPPER MONTCLAIR 53 NORWOOD AVENUE\,\, MONTCLAIR\, NJ\, United States
END:VEVENT
BEGIN:VEVENT
DTSTART;TZID=UTC:20191111T080000
DTEND;TZID=UTC:20191111T170000
DTSTAMP:20260423T142746
CREATED:20191204T220841Z
LAST-MODIFIED:20200205T141054Z
UID:189-1573459200-1573491600@montclairmusicclub.org
SUMMARY:November Program
DESCRIPTION:Click here to view the event flyer  \nClick here for video excerpt \nPROGRAM \nLensky’s Aria P. I. Tchaikovsky From “Eugene Onegin” Op. 24\, Act II\, No. 17 \nSonata in E Minor\, H. 551 C. P. E. Bach Adagio Allegro Menuet \nRomanian Folk Dances Bela Bartok \nMichael Alampi\, flute Chiao-Yu Wu\, piano \nTant que Vivray Pierre Attaignant \nDuo Miguel de Fuellana \nFantasia Luis de Milan \nPavana alla Ferrarese Joan Ambrosio \nDalza Daryl Hester\, lute  \nSonnet Enriquez de Valderrabano \nFantasia Alonso de Mudarra \nLa Filla del Marxant Miguel Llobet \nAsturias-Leyenda Isaac Albeniz \nDaryl Hester\, guitar \nGretchen am Spinnrade\, Op. 2\, D. 118 Franz Schubert \nLachen und Weinen\, Op. 59\, D. 777 Franz Schubert \nErin Persick\, soprano William Hobbs\, piano \nDer Hirt auf dem Felsen\, Op. 129\, D. 965 Franz Schubert
URL:https://montclairmusicclub.org/event/november-program/
END:VEVENT
BEGIN:VEVENT
DTSTART;TZID=UTC:20191007T000000
DTEND;TZID=UTC:20191007T170000
DTSTAMP:20260423T142746
CREATED:20191204T220014Z
LAST-MODIFIED:20191205T152020Z
UID:185-1570406400-1570467600@montclairmusicclub.org
SUMMARY:Scenes from Childhood
DESCRIPTION:Click here to view the event flyer \nPROGRAM \nKinderszenen Op. 15 Robert Schumann “Scenes from Childhood” \nJosh Levitin\, piano  \nFly Me To the Moon Bart Howard \nOl’ Man River Jerome Kern \nI Can’t Give You Anything But Love Jimmy McHugh \nThe Way You Look Tonight Jerome Kern Dorothy Fields \nLets Fall in Love Harold Arlen Ted Koehler \nI’ve Grown Accustomed to Your Face Frederick Loewe \nCarol Erickson\, vocal Bob McHugh\, piano Ron Naspo\, bass  \nCarnaval Op. 9 Robert Schumann Scenes mignonnes sur quatre notes \nRyan Bridge\, piano
URL:https://montclairmusicclub.org/event/scenes-from-childhood/
END:VEVENT
BEGIN:VEVENT
DTSTART;TZID=UTC:20190513T080000
DTEND;TZID=UTC:20190513T170000
DTSTAMP:20260423T142746
CREATED:20191204T221236Z
LAST-MODIFIED:20191205T152102Z
UID:192-1557734400-1557766800@montclairmusicclub.org
SUMMARY:May Program
DESCRIPTION:Click here to view the event flyer \nPROGRAM \nSonata in F Major\, Hob. XVI:23 Joseph Haydn Allegro moderato \n‘Pogodes’ from Estampes Claude Debussy \n‘Riguadon’ from Le Tombeau de Couperin Maurice Ravel \nRachel Chen\, piano \nDas Veilchen\, K. 476 Wolfgang Mozart \nOuvre tes yeux bleus Jules Massenet \nFair Robin I Love from “Tartuffe” Kirke Mechem \nColors of the Wind from “Pocohontas” Schwartz and Menken \nMy Lord and Master from “The King and I” Rodgers and Hammerstein \n Aashni Sawhney\, soprano Rebecca Eng\, piano \nTropical Triptych Federico Ruiz Moderato\, molto espressivo Andante rubato\, molto espressivo Allegro vivo \nAlejandro Guillen\, piano Sonata in G minor BWV 1001 J. S. Bach Adagio Salut d’amour\, Op. 12 Edward Elgar Recitativo and Scherzo Fritz Kreisler \nTzigane Maurice Ravel \nDylan Hamme\, violin Lisa Hansen\, piano
URL:https://montclairmusicclub.org/event/may-program/
END:VEVENT
END:VCALENDAR